BEGIN:VCALENDAR
VERSION:2.0
PRODID:-//Biblioteka Publiczna w Dzielnicy Ochota m.st. Warszawy - ECPv6.15.20//NONSGML v1.0//EN
CALSCALE:GREGORIAN
METHOD:PUBLISH
X-ORIGINAL-URL:http://bpochota.waw.pl
X-WR-CALDESC:Wydarzenia dla Biblioteka Publiczna w Dzielnicy Ochota m.st. Warszawy
REFRESH-INTERVAL;VALUE=DURATION:PT1H
X-Robots-Tag:noindex
X-PUBLISHED-TTL:PT1H
BEGIN:VTIMEZONE
TZID:Europe/Warsaw
BEGIN:DAYLIGHT
TZOFFSETFROM:+0100
TZOFFSETTO:+0200
TZNAME:CEST
DTSTART:20240331T010000
END:DAYLIGHT
BEGIN:STANDARD
TZOFFSETFROM:+0200
TZOFFSETTO:+0100
TZNAME:CET
DTSTART:20241027T010000
END:STANDARD
BEGIN:DAYLIGHT
TZOFFSETFROM:+0100
TZOFFSETTO:+0200
TZNAME:CEST
DTSTART:20250330T010000
END:DAYLIGHT
BEGIN:STANDARD
TZOFFSETFROM:+0200
TZOFFSETTO:+0100
TZNAME:CET
DTSTART:20251026T010000
END:STANDARD
BEGIN:DAYLIGHT
TZOFFSETFROM:+0100
TZOFFSETTO:+0200
TZNAME:CEST
DTSTART:20260329T010000
END:DAYLIGHT
BEGIN:STANDARD
TZOFFSETFROM:+0200
TZOFFSETTO:+0100
TZNAME:CET
DTSTART:20261025T010000
END:STANDARD
END:VTIMEZONE
BEGIN:VEVENT
DTSTART;TZID=Europe/Warsaw:20251008T000000
DTEND;TZID=Europe/Warsaw:20251127T235959
DTSTAMP:20260420T065115
CREATED:20250930T113726Z
LAST-MODIFIED:20251009T204132Z
UID:10000648-1759881600-1764287999@bpochota.waw.pl
SUMMARY:Wystawa: Światło wód – Joanna Korecka
DESCRIPTION:Zapraszamy do obejrzenia wystawy malarskiej Joanny Koreckiej oraz na spotkanie z artystką. \n\n\n\nEkspozycję “Światło wód” można oglądać od 8 października do 27 listopada 2025 r.Finisaż wystawy – 6 listopada 2025 r.\, godz. 17:30 \n\n\n\n\n\n\n\nJoanna Korecka – artystka wizualna\, malarka\, graficzka\, animatorka kultury. Absolwentka Akademii Sztuk Pięknych w Warszawie. Członek Związku Polskich Artystów Plastyków. Wykładowca w Międzynarodowym Studium Dziewulskich (pracownia rysunku). Doświadczony edukator sztuk pięknych. Prowadzi autorskie zajęcia dla dzieci\, młodzieży i dorosłych\, często uzupełniając działania artystyczne wykładami o sztuce\, oraz działaniami interdyscyplinarnymi z pogranicza muzyki\, teatru\, pantomimy i tańca. Jako grafik współpracuje z instytucjami kultury tworząc oprawę plastyczną wydarzeń artystycznych. Uhonorowana przez Ministra Kultury i Sztuki odznaką Zasłużony dla Kultury Polskiej. Uczestniczka i organizatorka wydarzeń artystycznych\, prelekcji i odczytów na temat sztuki\, plenerów malarskich\, szkoleń i warsztatów artystycznych. Brała udział w licznych wystawach indywidualnych i zbiorowych w Polsce\, Stanach Zjednoczonych\, Francji\, Niemczech\, Włoszech\, Czechach\, Serbii i in. Jej obrazy znajdują się w instytucjach użyteczności publicznej oraz w zbiorach prywatnych na terenie kraju oraz za granicą. Twórczyni i kurator Festiwalu litery – konceptualnego przedsięwzięcia artystycznego\, dotyczącego języka\, do którego impuls wyszedł ze środowiska malarzy\, grafików i performerów\, ale objęło ono również ludzi pióra i muzyków. \n\n\n\n\nJoanna Korecka o grafikach – TVP\n\n\n\nSŁOWO LITERA ZNAK – wirtualny spacer po wystawie\n\n\n\n\n\n\n\n\n\n\nOrganizator: \n\n\n\n\n\nLokalizacja:
URL:http://bpochota.waw.pl/wydarzenia/wystawa-swiatlo-wod-joanna-korecka/
LOCATION:Biblioteka „Przystanek Ksiażka”\, ul. Grójecka 42\, Warszawa\, 02-320\, Poland
CATEGORIES:Wydarzenia,Wydarzenia dla dorosłych
ATTACH;FMTTYPE=image/jpeg:http://bpochota.waw.pl/wp-content/uploads/bpo-joanna_korecka_obraz1.jpg
END:VEVENT
BEGIN:VEVENT
DTSTART;TZID=Europe/Warsaw:20251008T170000
DTEND;TZID=Europe/Warsaw:20251008T183000
DTSTAMP:20260420T065115
CREATED:20250924T185129Z
LAST-MODIFIED:20251010T054459Z
UID:10000520-1759942800-1759948200@bpochota.waw.pl
SUMMARY:Moda upcyclingowa czyli FastFashion w odwrocie
DESCRIPTION:Warsztaty połączone z prelekcją o negatywnym wpływie tzw. „szybkiej mody” na środowisko. Zastonowimy się nad sposobami bardziej świadomego podejścia do mody i produkcji ubrać. W części praktycznej zastosujemy wybrane techniki upcyklingu. Będzie to okazja\, by połączyć ekologię\, kreatywność i odpowiedzialną modę wjednym inspirującym spotkaniu. Zachęcamy\, aby uczestnicy przynieśli ze sobą koszulkityp. T-shirt.  \n\n\n\nZajęcia poprowadzi Fundacja Aeris Futuro \n\n\n\n\n\nUpcycling to pomysłowe przerabianie starych rzeczy na coś nowego i fajnego – zamiast je wyrzucać\, dajesz im drugie życie. \n\n\n\nTo trochę jak czary z recyklingiem: \n\n\n\n\nze starych jeansów robisz modną torbę\,\n\n\n\nz kartonów budujesz organizer na biurko\,\n\n\n\nz popsutego roweru tworzysz oryginalną dekorację.\n\n\n\n\nDzięki upcyclingowi: \n\n\n\n\nchronisz środowisko\, bo produkujesz mniej śmieci\,\n\n\n\noszczędzasz pieniądze\,\n\n\n\npokazujesz swój styl i kreatywność.\n\n\n\n\nTo sposób na bycie eko i twórczym jednocześnie – idealny dla młodych ludzi\, którzy lubią działać z głową i fantazją. \n\n\n\n\n\nZapisy: \n\n\n\n\n798 651 682 (SMS)\n\n\n\nFormularz \n\n\n\n\nOrganizator: \n\n\n\n\n\nLokalizacja:
URL:http://bpochota.waw.pl/wydarzenia/moda-upcyclingowa-czyli-fastfasion-w-odwrocie/
LOCATION:Biblioteka „Przy Baleya”\, ul. Baleya 9\, Warszawa\, 02-132
CATEGORIES:Zajęcia dla młodzieży
END:VEVENT
BEGIN:VEVENT
DTSTART;TZID=Europe/Warsaw:20251008T173000
DTEND;TZID=Europe/Warsaw:20251008T183000
DTSTAMP:20260420T065115
CREATED:20250917T111237Z
LAST-MODIFIED:20251024T083128Z
UID:10000149-1759944600-1759948200@bpochota.waw.pl
SUMMARY:Czytanie na dywanie
DESCRIPTION:Zapraszamy wszystkie dzieci w wieku od 3 do 6 lat na niezwykłe spotkanie\, które rozbudzi ich wyobraźnię i ciekawość! Przygotowaliśmy dla Was sesję głośnego czytania połączoną z fascynującymi warsztatami plastycznymi. To idealna okazja\, by połączyć przyjemność słuchania z radością tworzenia. \n\n\n\nDlaczego Głośne Czytanie Jest Tak Ważne?Czytanie na głos to nie tylko forma rozrywki\, ale przede wszystkim klucz do wszechstronnego rozwoju najmłodszych. Podczas naszych spotkań dzieci: \n\n\n\n\nRozwiną Umiejętność Aktywnego Słuchania: Uczą się koncentracji na treści\, co jest fundamentem późniejszej nauki i komunikacji.\n\n\n\nPobudzą Ciekawość Świata: Historie i opowieści otwierają nowe perspektywy\, zachęcają do zadawania pytań i odkrywania nieznanego.\n\n\n\nNauczą Się Krytycznego Myślenia: Nawet najprostsze bajki prowokują do refleksji\, analizy sytuacji i przewidywania konsekwencji.\n\n\n\nRozwiną Wyobraźnię i Kreatywność: Wsłuchując się w barwne opisy\, dzieci tworzą własne\, unikalne światy w swoich umysłach.\n\n\n\nWzmocnią Koncentrację: Regularne głośne czytanie to doskonały trening dla uwagi\, niezbędny w procesie edukacji i codziennym funkcjonowaniu.\n\n\n\n\nPo dawce inspirujących opowieści przeniesiemy się do świata sztuki\, gdzie każdy mały artysta będzie mógł wyrazić swoje emocje i wrażenia podczas twórczych warsztatów plastycznych. To doskonała okazja\, by rozwinąć zdolności manualne i czerpać radość z tworzenia! \n\n\n\nDołączcie do nas i pozwólcie swoim dzieciom na chwilę magicznej przygody z książką i sztuką! \n\n\n\nZapisy: \n\n\n\n\ntel. 22 822 31 95\n\n\n\ne-mail: piatka@bpochota.waw.pl\n\n\n\n\nOrganizator: \n\n\n\n\n\nLokalizacja:
URL:http://bpochota.waw.pl/wydarzenia/czytanie-na-dywanie/2025-10-08/
LOCATION:Biblioteka „Piątka”\, ul. Grójecka 109\, Warszawa\, 02-120\, Poland
CATEGORIES:Zajęcia dla dzieci
ATTACH;FMTTYPE=image/webp:http://bpochota.waw.pl/wp-content/uploads/bpo-zajecia_literacko_artystyczne.webp
END:VEVENT
END:VCALENDAR