BEGIN:VCALENDAR
VERSION:2.0
PRODID:-//Biblioteka Publiczna w Dzielnicy Ochota m.st. Warszawy - ECPv6.15.20//NONSGML v1.0//EN
CALSCALE:GREGORIAN
METHOD:PUBLISH
X-ORIGINAL-URL:http://bpochota.waw.pl
X-WR-CALDESC:Wydarzenia dla Biblioteka Publiczna w Dzielnicy Ochota m.st. Warszawy
REFRESH-INTERVAL;VALUE=DURATION:PT1H
X-Robots-Tag:noindex
X-PUBLISHED-TTL:PT1H
BEGIN:VTIMEZONE
TZID:Europe/Warsaw
BEGIN:DAYLIGHT
TZOFFSETFROM:+0100
TZOFFSETTO:+0200
TZNAME:CEST
DTSTART:20240331T010000
END:DAYLIGHT
BEGIN:STANDARD
TZOFFSETFROM:+0200
TZOFFSETTO:+0100
TZNAME:CET
DTSTART:20241027T010000
END:STANDARD
BEGIN:DAYLIGHT
TZOFFSETFROM:+0100
TZOFFSETTO:+0200
TZNAME:CEST
DTSTART:20250330T010000
END:DAYLIGHT
BEGIN:STANDARD
TZOFFSETFROM:+0200
TZOFFSETTO:+0100
TZNAME:CET
DTSTART:20251026T010000
END:STANDARD
BEGIN:DAYLIGHT
TZOFFSETFROM:+0100
TZOFFSETTO:+0200
TZNAME:CEST
DTSTART:20260329T010000
END:DAYLIGHT
BEGIN:STANDARD
TZOFFSETFROM:+0200
TZOFFSETTO:+0100
TZNAME:CET
DTSTART:20261025T010000
END:STANDARD
END:VTIMEZONE
BEGIN:VEVENT
DTSTART;TZID=Europe/Warsaw:20251203T170000
DTEND;TZID=Europe/Warsaw:20251203T180000
DTSTAMP:20260424T214247
CREATED:20251030T193943Z
LAST-MODIFIED:20251117T224149Z
UID:10000990-1764781200-1764784800@bpochota.waw.pl
SUMMARY:Zrób mydełko
DESCRIPTION:Zapraszamy dzieci w wieku 9–13 lat na pachnące i kolorowe warsztaty tworzenia mydełek! To doskonała okazja\, by poznać podstawy ręcznego wyrobu kosmetyków\, poeksperymentować z kształtami\, barwami i zapachami\, a na koniec zabrać do domu własnoręcznie wykonane mydełko. \n\n\n\nCo czeka uczestników? \n\n\n\n\nKrótkie wprowadzenie do świata naturalnych składników\n\n\n\nBezpieczne tworzenie mydełek glicerynowych\n\n\n\nMożliwość wyboru kolorów\, zapachów i dodatków (suszone kwiaty\, brokat\, olejki)\n\n\n\nKreatywna zabawa i relaks w miłej atmosferze\n\n\n\n\n \n\n\n\nWarsztaty prowadzone są w bezpiecznych warunkach\, z uwzględnieniem wieku uczestników. Nie trzeba mieć żadnego doświadczenia – wystarczy chęć do zabawy i odrobina wyobraźni! \n\n\n\nZapisy: \n\n\n\n\na.madalinska@bpochota.waw.pl\n\n\n\n\n\n\nLokalizacja:
URL:http://bpochota.waw.pl/wydarzenia/zrob-mydelko/
LOCATION:Biblioteka „Przy Baleya”\, ul. Baleya 9\, Warszawa\, 02-132
CATEGORIES:Zajęcia dla dzieci
ATTACH;FMTTYPE=image/webp:http://bpochota.waw.pl/wp-content/uploads/bpo-zrob_mydelko.webp
END:VEVENT
END:VCALENDAR