BEGIN:VCALENDAR
VERSION:2.0
PRODID:-//Biblioteka Publiczna w Dzielnicy Ochota m.st. Warszawy - ECPv6.15.20//NONSGML v1.0//EN
CALSCALE:GREGORIAN
METHOD:PUBLISH
X-ORIGINAL-URL:http://bpochota.waw.pl
X-WR-CALDESC:Wydarzenia dla Biblioteka Publiczna w Dzielnicy Ochota m.st. Warszawy
REFRESH-INTERVAL;VALUE=DURATION:PT1H
X-Robots-Tag:noindex
X-PUBLISHED-TTL:PT1H
BEGIN:VTIMEZONE
TZID:Europe/Warsaw
BEGIN:DAYLIGHT
TZOFFSETFROM:+0100
TZOFFSETTO:+0200
TZNAME:CEST
DTSTART:20240331T010000
END:DAYLIGHT
BEGIN:STANDARD
TZOFFSETFROM:+0200
TZOFFSETTO:+0100
TZNAME:CET
DTSTART:20241027T010000
END:STANDARD
BEGIN:DAYLIGHT
TZOFFSETFROM:+0100
TZOFFSETTO:+0200
TZNAME:CEST
DTSTART:20250330T010000
END:DAYLIGHT
BEGIN:STANDARD
TZOFFSETFROM:+0200
TZOFFSETTO:+0100
TZNAME:CET
DTSTART:20251026T010000
END:STANDARD
BEGIN:DAYLIGHT
TZOFFSETFROM:+0100
TZOFFSETTO:+0200
TZNAME:CEST
DTSTART:20260329T010000
END:DAYLIGHT
BEGIN:STANDARD
TZOFFSETFROM:+0200
TZOFFSETTO:+0100
TZNAME:CET
DTSTART:20261025T010000
END:STANDARD
END:VTIMEZONE
BEGIN:VEVENT
DTSTART;TZID=Europe/Warsaw:20251204T173000
DTEND;TZID=Europe/Warsaw:20251204T190000
DTSTAMP:20260424T111656
CREATED:20251010T085404Z
LAST-MODIFIED:20251015T121305Z
UID:10000662-1764869400-1764874800@bpochota.waw.pl
SUMMARY:Slam - więcej niż poezja / warsztaty
DESCRIPTION:Piszesz poezję\, ale brakuje Ci odwagi\, by pokazać ją innym?Twoja szuflada jest pełna tekstów\, które być może warto pokazać światu?Twoje wiersze czekają na publiczność? \n\n\n\nPrzyjdź i odkryj moc Slamu Poetyckiego \n\n\n\nZapraszamy na cykl siedmiu bezpłatnych\, cotygodniowych spotkań\, które zamienią Cię w pewnego siebie performera! Nieważne\, czy masz 16 czy 70 lat – warsztaty są dla wszystkich! \n\n\n\nCo zyskasz? \n\n\n\n\nZbudujemy umiejętności prezentacyjne i kompetencje performerskie.\n\n\n\nPrzećwiczymy kluczowe tematy\, które pozwolą Ci błyszczeć na scenie.\n\n\n\n\nW programie m.in.: \n\n\n\n\nSlam jako wystąpienie publiczne.\n\n\n\nPrzełamywanie własnych barier i walka z tremą.\n\n\n\nPraca z mikrofonem\, emisja głosu\, dykcja.\n\n\n\nKreatywne pisanie poezji slamowej.\n\n\n\nPanowanie nad sceną i budowanie więzi z publicznością.\n\n\n\n…i wiele\, wiele więcej praktycznych porad!\n\n\n\n\n \n\n\n\nCały cykl zakończymy SLAMEM POETYCKIM\, w którym wykorzystasz nabyte umiejętności! \n\n\n\nWarsztaty poprowadzi Kavi Kozłowska – poetka\, slamerka i trenerka skutecznych zmian oraz zaproszeni goście ze świata sceny.Liczba miejsc ograniczona! Zapisz się już dziś! \n\n\n\nZapisy: \n\n\n\nSMS: 798 651 682 \n\n\n\nProjekt finansowany z Funduszu Edukacji Kulturalnej 2025. \n\n\n\nOrganizartor: \n\n\n\n\n\nLokalizacja:
URL:http://bpochota.waw.pl/wydarzenia/slam-wiecej-niz-poezja-warsztaty/2025-12-04/
LOCATION:Biblioteka „Przy Baleya”\, ul. Baleya 9\, Warszawa\, 02-132
CATEGORIES:Zajęcia dla dorosłych,Zajęcia dla młodzieży
ATTACH;FMTTYPE=image/webp:http://bpochota.waw.pl/wp-content/uploads/bpo-slam_wiecej_niz_poezja.webp
END:VEVENT
END:VCALENDAR