BEGIN:VCALENDAR
VERSION:2.0
PRODID:-//Biblioteka Publiczna w Dzielnicy Ochota m.st. Warszawy - ECPv6.15.20//NONSGML v1.0//EN
CALSCALE:GREGORIAN
METHOD:PUBLISH
X-WR-CALNAME:Biblioteka Publiczna w Dzielnicy Ochota m.st. Warszawy
X-ORIGINAL-URL:http://bpochota.waw.pl
X-WR-CALDESC:Wydarzenia dla Biblioteka Publiczna w Dzielnicy Ochota m.st. Warszawy
REFRESH-INTERVAL;VALUE=DURATION:PT1H
X-Robots-Tag:noindex
X-PUBLISHED-TTL:PT1H
BEGIN:VTIMEZONE
TZID:Europe/Warsaw
BEGIN:DAYLIGHT
TZOFFSETFROM:+0100
TZOFFSETTO:+0200
TZNAME:CEST
DTSTART:20250330T010000
END:DAYLIGHT
BEGIN:STANDARD
TZOFFSETFROM:+0200
TZOFFSETTO:+0100
TZNAME:CET
DTSTART:20251026T010000
END:STANDARD
BEGIN:DAYLIGHT
TZOFFSETFROM:+0100
TZOFFSETTO:+0200
TZNAME:CEST
DTSTART:20260329T010000
END:DAYLIGHT
BEGIN:STANDARD
TZOFFSETFROM:+0200
TZOFFSETTO:+0100
TZNAME:CET
DTSTART:20261025T010000
END:STANDARD
BEGIN:DAYLIGHT
TZOFFSETFROM:+0100
TZOFFSETTO:+0200
TZNAME:CEST
DTSTART:20270328T010000
END:DAYLIGHT
BEGIN:STANDARD
TZOFFSETFROM:+0200
TZOFFSETTO:+0100
TZNAME:CET
DTSTART:20271031T010000
END:STANDARD
END:VTIMEZONE
BEGIN:VEVENT
DTSTART;TZID=Europe/Warsaw:20260119T000000
DTEND;TZID=Europe/Warsaw:20260314T235959
DTSTAMP:20260424T110537
CREATED:20260113T101010Z
LAST-MODIFIED:20260113T123909Z
UID:10001067-1768780800-1773532799@bpochota.waw.pl
SUMMARY:Wystawa: Powroty – Hakya Gago
DESCRIPTION:Zapraszamy do obejrzenia wystawy malarstwa Hakyi Gago oraz na spotkanie z artystką \n\n\n\n\n\nPo więcej zapraszamy do Biblioteki. \n\n\n\nFinisaż wystawy – 5 marca 2026 r.\, godz. 17:30 \n\n\n\n\n\n\n\n\n\n\n\nNazywam się Hakya Gago (1986) Urodziłam się w Warszawie\, mam japońskie korzenie. Ukończyłam Międzynarodową Szkołę Kostiumografii i Projektowania Ubioru\, lecz to malarstwo stało się moim naturalnym językiem. Tworzę obrazy\, murale i obiekty\, które pojawiają się w przestrzeniach prywatnych i publicznych – od mieszkań po teatry.Moja twórczość to spotkanie z tym\, co niewidzialne – z energią\, symbolem\, intuicją i naturą. Jestem artystką\, która słucha: siebie\, przodków\, przestrzeni i ciszy pomiędzy dźwiękami. \n\n\n\nStrona artystki \n\n\n\n\n\n \n\n\n\n \n\n\n\nOrganizator: \n\n\n\n\n\nLokalizacja:
URL:http://bpochota.waw.pl/wydarzenia/wystawa-powroty-hakya-gago/
LOCATION:Biblioteka „Przystanek Ksiażka”\, ul. Grójecka 42\, Warszawa\, 02-320\, Poland
CATEGORIES:Wydarzenia,Wydarzenia dla dorosłych
ATTACH;FMTTYPE=image/webp:http://bpochota.waw.pl/wp-content/uploads/bpo-hakya_gago_plakat.webp
END:VEVENT
BEGIN:VEVENT
DTSTART;TZID=Europe/Warsaw:20260210T163000
DTEND;TZID=Europe/Warsaw:20260210T173000
DTSTAMP:20260424T110537
CREATED:20251020T115504Z
LAST-MODIFIED:20251229T102022Z
UID:10000860-1770741000-1770744600@bpochota.waw.pl
SUMMARY:Konsultacje komputerowe z Marią (Edukacja cyfrowa)
DESCRIPTION:Nie wiesz\, gdzie zniknęły zdjęcia? Twój telefon robi rzeczy\, których nie rozumiesz? A może komputer uparcie domaga się\, żebyś „sprawdził pocztę”\, choć nie masz pojęcia\, gdzie ona się ukryła? Spokojnie – wolontariuszka Maria zna te cyfrowe sztuczki! Z uśmiechem\, cierpliwością i poczuciem humoru pomoże Ci ujarzmić elektroniczne zagadki. Indywidualnie\, bez pośpiechu\, z ludzkim podejściem. \n\n\n\nZapisy: \n\n\n\n\nprzystanek@bpochota.waw.pl\n\n\n\n22 822 51 38 wew. 27\n\n\n\n\nOrganizator: \n\n\n\n\n\nMiejsce:
URL:http://bpochota.waw.pl/wydarzenia/konsultacje-komputerowe-z-maria-edukacja-cyfrowa/2026-02-10/
LOCATION:Biblioteka „Przystanek Ksiażka”\, ul. Grójecka 42\, Warszawa\, 02-320\, Poland
CATEGORIES:Zajęcia dla seniorów
ATTACH;FMTTYPE=image/webp:http://bpochota.waw.pl/wp-content/uploads/bpo-edukacja_cyfrowa.webp
END:VEVENT
BEGIN:VEVENT
DTSTART;TZID=Europe/Warsaw:20260210T180000
DTEND;TZID=Europe/Warsaw:20260210T185500
DTSTAMP:20260424T110537
CREATED:20260205T090813Z
LAST-MODIFIED:20260205T090828Z
UID:10001084-1770746400-1770749700@bpochota.waw.pl
SUMMARY:Two sides of working remotely / Konwersatoria językowe: angielski
DESCRIPTION:Get Talking \n\n\n\n\n\n\nIn recent years\, the concept of remote work has gained significant popularity\, transforming the traditional office-based work environment into something a little more homey and comfortable. With so many advancements in technology and communication tools\, working remotely has become a more viable option for many individuals and organizations. \n\n\n\n\nLearning materials: \n\n\n\n\n Advantages & disadvantages\n\n\n\n\nThe session will be led by: Kajetan Muszyński \n\n\n\nOrganizer: \n\n\n\n\n\nLocation:
URL:http://bpochota.waw.pl/wydarzenia/two-sides-of-working-remotely-konwersatoria-jezykowe-angielski/
LOCATION:Biblioteka „Przystanek Ksiażka”\, ul. Grójecka 42\, Warszawa\, 02-320\, Poland
CATEGORIES:Zajęcia dla dorosłych
ATTACH;FMTTYPE=image/webp:http://bpochota.waw.pl/wp-content/uploads/bpo-two_sides_of_working_remotely.webp
END:VEVENT
END:VCALENDAR