BEGIN:VCALENDAR
VERSION:2.0
PRODID:-//Biblioteka Publiczna w Dzielnicy Ochota m.st. Warszawy - ECPv6.15.20//NONSGML v1.0//EN
CALSCALE:GREGORIAN
METHOD:PUBLISH
X-ORIGINAL-URL:https://bpochota.waw.pl
X-WR-CALDESC:Wydarzenia dla Biblioteka Publiczna w Dzielnicy Ochota m.st. Warszawy
REFRESH-INTERVAL;VALUE=DURATION:PT1H
X-Robots-Tag:noindex
X-PUBLISHED-TTL:PT1H
BEGIN:VTIMEZONE
TZID:Europe/Warsaw
BEGIN:DAYLIGHT
TZOFFSETFROM:+0100
TZOFFSETTO:+0200
TZNAME:CEST
DTSTART:20240331T010000
END:DAYLIGHT
BEGIN:STANDARD
TZOFFSETFROM:+0200
TZOFFSETTO:+0100
TZNAME:CET
DTSTART:20241027T010000
END:STANDARD
BEGIN:DAYLIGHT
TZOFFSETFROM:+0100
TZOFFSETTO:+0200
TZNAME:CEST
DTSTART:20250330T010000
END:DAYLIGHT
BEGIN:STANDARD
TZOFFSETFROM:+0200
TZOFFSETTO:+0100
TZNAME:CET
DTSTART:20251026T010000
END:STANDARD
BEGIN:DAYLIGHT
TZOFFSETFROM:+0100
TZOFFSETTO:+0200
TZNAME:CEST
DTSTART:20260329T010000
END:DAYLIGHT
BEGIN:STANDARD
TZOFFSETFROM:+0200
TZOFFSETTO:+0100
TZNAME:CET
DTSTART:20261025T010000
END:STANDARD
BEGIN:DAYLIGHT
TZOFFSETFROM:+0100
TZOFFSETTO:+0200
TZNAME:CEST
DTSTART:20270328T010000
END:DAYLIGHT
BEGIN:STANDARD
TZOFFSETFROM:+0200
TZOFFSETTO:+0100
TZNAME:CET
DTSTART:20271031T010000
END:STANDARD
END:VTIMEZONE
BEGIN:VEVENT
DTSTART;TZID=Europe/Warsaw:20260323T173000
DTEND;TZID=Europe/Warsaw:20260323T190000
DTSTAMP:20260421T120245
CREATED:20260303T102048Z
LAST-MODIFIED:20260303T102103Z
UID:10001098-1774287000-1774292400@bpochota.waw.pl
SUMMARY:Dyskusyjny Klub Książki - Dezorientacje. Biografia Marii Konopnickiej - Magdalena Grzebałkowska
DESCRIPTION:Serdecznie zapraszamy na kolejne spotkanie Dyskusyjnego Klubu Książki! Tym razem sięgamy po jedną z najgłośniejszych biografii ostatnich lat – „Dezorientacje” Magdaleny Grzebałkowskiej\, opowieść o Marii Konopnickiej\, która wymyka się szkolnym schematom i utartym wyobrażeniom. \n\n\n\nTo książka\, która odkrywa poetkę na nowo: jako kobietę pełną sprzeczności\, odważną\, niezależną\, a jednocześnie uwikłaną w realia swojej epoki. Wspólnie przyjrzymy się temu\, jak Grzebałkowska prowadzi czytelnika przez życie Konopnickiej\, odsłaniając jej wybory\, relacje i tajemnice. \n\n\n\nO czym możemy rozmawiać? \n\n\n\n\no tym\, jak biografia Grzebałkowskiej zmienia nasze spojrzenie na Marię Konopnicką\n\n\n\no życiu poetki poza szkolnym kanonem i pomnikowym wizerunkiem\n\n\n\no jej relacjach rodzinnych\, przyjaźniach i związkach\n\n\n\no tym\, jak wyglądała kobieca niezależność na przełomie XIX i XX wieku\n\n\n\no reporterskim stylu autorki i sposobie prowadzenia narracji\n\n\n\no tym\, co w tej historii najbardziej zaskakuje współczesnego czytelnika\n\n\n\n\n \n\n\n\nDlaczego warto?Nie trzeba być ekspertem ani „znać się na literaturze”. W DKK liczy się własne zdanie\, ciekawość i chęć rozmowy. To miejsce\, gdzie każdy głos jest ważny. \n\n\n\nOrganizator: \n\n\n\n\n\nLokalizacja:
URL:https://bpochota.waw.pl/wydarzenia/dyskusyjny-klub-ksiazki-dezorientacje-biografia-marii-konopnickiej-magdalena-grzebalkowska/
LOCATION:Biblioteka „Przy Zawiszy”\, Al. Jerozolimskie 121/123\, Warszawa\, 02-017\, Poland
CATEGORIES:Zajęcia dla dorosłych
ATTACH;FMTTYPE=image/webp:https://bpochota.waw.pl/wp-content/uploads/bpo-dezorientacje_biografia_konopnickiej.webp
END:VEVENT
BEGIN:VEVENT
DTSTART;TZID=Europe/Warsaw:20260223T173000
DTEND;TZID=Europe/Warsaw:20260223T190000
DTSTAMP:20260421T120245
CREATED:20260212T080325Z
LAST-MODIFIED:20260212T080335Z
UID:10001091-1771867800-1771873200@bpochota.waw.pl
SUMMARY:Dyskusyjny Klub Książki - Buszujący w zbożu - J. D. Sallinger
DESCRIPTION:Serdecznie zapraszamy na kolejne spotkanie Dyskusyjnego Klubu Książki! Tym razem sięgamy po jedną z najbardziej kultowych powieści XX wieku – „Buszującego w zbożu” autorstwa J.D. Salingera. \n\n\n\nTo książka\, która od lat budzi emocje\, prowokuje do rozmów i nieustannie inspiruje kolejne pokolenia czytelników. Wspólnie przyjrzymy się postaci Holdena Caulfielda\, jego buntowi\, wrażliwości i niełatwemu przechodzeniu w dorosłość. Porozmawiamy o tym\, co w tej historii wciąż pozostaje aktualne\, a co dziś odczytujemy zupełnie inaczej. \n\n\n\nO czym możemy rozmawiać? \n\n\n\n\no tym\, dlaczego Holden stał się ikoną buntu i czy nadal nią jest\n\n\n\no motywie dorastania i zagubienia w świecie pełnym pozorów\n\n\n\no języku powieści – prostym\, potocznym\, a jednocześnie pełnym emocji\n\n\n\no relacjach Holdena z rodziną i rówieśnikami\n\n\n\no tym\, jak odbieramy tę książkę dziś\, z perspektywy współczesnego czytelnika\n\n\n\no tym\, czy „Buszujący w zbożu” to powieść ponadczasowa\, czy raczej dziecko swojej epoki\n\n\n\n\n \n\n\n\nDlaczego warto?To świetna okazja\, by spojrzeć na klasykę z nowej perspektywy \n\n\n\nOrganizator: \n\n\n\n\n\nLokalizacja:
URL:https://bpochota.waw.pl/wydarzenia/dyskusyjny-klub-ksiazki-buszujacy-w-zbozu-j-d-sallinger/
LOCATION:Biblioteka „Przy Zawiszy”\, Al. Jerozolimskie 121/123\, Warszawa\, 02-017\, Poland
CATEGORIES:Zajęcia dla dorosłych
ATTACH;FMTTYPE=image/webp:https://bpochota.waw.pl/wp-content/uploads/bpo-okladka-buszujacy_w_zbozu.webp
END:VEVENT
BEGIN:VEVENT
DTSTART;TZID=Europe/Warsaw:20260126T173000
DTEND;TZID=Europe/Warsaw:20260126T190000
DTSTAMP:20260421T120245
CREATED:20260101T155848Z
LAST-MODIFIED:20260102T095902Z
UID:10001061-1769448600-1769454000@bpochota.waw.pl
SUMMARY:Dyskusyjny Klub Książki - Yellowface - Rebeka F. Kuang
DESCRIPTION:Serdecznie zapraszamy na kolejne spotkanie Dyskusyjnego Klubu Książki! Tym razem sięgamy po jedną z najgłośniejszych powieści ostatnich lat – „Yellowface” Rebeki F. Kuang\, błyskotliwą\, prowokującą i pełną napięcia opowieść o literackim świecie\, ambicji\, zawłaszczeniu kulturowym i cienkiej granicy między inspiracją a kradzieżą. \n\n\n\nO czym możemy rozmawiać? \n\n\n\n\nmoralnych dylematach związanych z autorstwem i reprezentacją\,\n\n\n\nmechanizmach działania współczesnego rynku wydawniczego\,\n\n\n\ntym\, jak media społecznościowe wpływają na twórców i odbiorców\,\n\n\n\noraz o tym\, dlaczego ta książka wywołała tak szeroką dyskusję na świecie.\n\n\n\n\n \n\n\n\nDlaczego warto?Wspólne terminy spotkań pomagają utrzymać rytm czytania. Łatwiej sięgnąć po książkę\, gdy wiemy\, że czeka nas ciekawa dyskusja. \n\n\n\nOrganizator: \n\n\n\n\n\nLokalizacja:
URL:https://bpochota.waw.pl/wydarzenia/dyskusyjny-klub-ksiazki-3/
LOCATION:Biblioteka „Przy Zawiszy”\, Al. Jerozolimskie 121/123\, Warszawa\, 02-017\, Poland
CATEGORIES:Zajęcia dla dorosłych
ATTACH;FMTTYPE=image/webp:https://bpochota.waw.pl/wp-content/uploads/bpo-okladka-yellowface.webp
END:VEVENT
BEGIN:VEVENT
DTSTART;TZID=Europe/Warsaw:20251215T173000
DTEND;TZID=Europe/Warsaw:20251215T190000
DTSTAMP:20260421T120245
CREATED:20251102T192644Z
LAST-MODIFIED:20251102T201753Z
UID:10000992-1765819800-1765825200@bpochota.waw.pl
SUMMARY:Dyskusyjny Klub Książki - Morderstwo w Boże Narodzenie - Agatha Christie
DESCRIPTION:Zapraszamy na wyjątkowe\, grudniowe spotkanie Dyskusyjnego Klubu Książki\, podczas którego zanurzymy się w klasyczny kryminał Agathy Christie Morderstwo w Boże Narodzenie. W tej pełnej napięcia historii Hercule Poirot musi rozwikłać zagadkę morderstwa\, które burzy rodzinne święta w angielskiej posiadłości. Intrygi\, tajemnice i nieoczywiste motywy – wszystko to w atmosferze choinek\, prezentów i… zbrodni. \n\n\n\nO czym możemy rozmawiać? \n\n\n\n\nJak Christie buduje napięcie i prowadzi czytelnika przez śledztwo?\n\n\n\nKontrast między świąteczną atmosferą a zbrodnią – jak wpływa to na odbiór powieści?\n\n\n\nCzy książka nadal zaskakuje współczesnego czytelnika?\n\n\n\n\n \n\n\n\nNiech to będzie wieczór pełen literackich emocji – przyjdź\, podyskutuj i poczuj klimat świątecznego kryminału! \n\n\n\nDlaczego warto?Bo DKK to nie tylko rozmowa o książkach – to przestrzeń spotkania\, wymiany myśli i wspólnego odkrywania literatury. Nie trzeba być ekspertem\, wystarczy być sobą. \n\n\n\nOrganizator: \n\n\n\n\n\nLokalizacja:
URL:https://bpochota.waw.pl/wydarzenia/dyskusyjny-klub-ksiazki-morderstwo-w-boze-narodzenie-agathy-christie/
LOCATION:Biblioteka „Przy Zawiszy”\, Al. Jerozolimskie 121/123\, Warszawa\, 02-017\, Poland
ATTACH;FMTTYPE=image/webp:https://bpochota.waw.pl/wp-content/uploads/bpo-morderstwo_w_boze_narodzenie.webp
END:VEVENT
BEGIN:VEVENT
DTSTART;TZID=Europe/Warsaw:20251124T173000
DTEND;TZID=Europe/Warsaw:20251124T190000
DTSTAMP:20260421T120245
CREATED:20251102T191607Z
LAST-MODIFIED:20251102T201954Z
UID:10000991-1764005400-1764010800@bpochota.waw.pl
SUMMARY:Dyskusyjny Klub Książki - "Dallas '63" - Stephen King
DESCRIPTION:Serdecznie zapraszamy na najbliższe spotkanie Dyskusyjnego Klubu Książki\, podczas którego porozmawiamy o powieści Stephena Kinga Dallas ’63. To fascynująca podróż w czasie\, pełna napięcia\, emocji i pytań o wpływ jednostki na bieg historii. \n\n\n\nO czym możemy rozmawiać? \n\n\n\n\nJakie znaczenie ma motyw podróży w czasie w tej powieści? Czy zmiana przeszłości to dobry pomysł?\n\n\n\nJakie emocje wzbudziła w Tobie wizja Ameryki lat 50. i 60. przedstawiona przez Kinga?\n\n\n\nJak oceniasz postać Jake’a Eppinga? Czy jego decyzje były słuszne?\n\n\n\nJakie są Twoje przemyślenia na temat alternatywnej historii – czy świat byłby lepszy\, gdyby JFK przeżył?\n\n\n\n\n \n\n\n\nJeśli lubisz literaturę\, która wciąga od pierwszej strony i prowokuje do refleksji – nie może Cię zabraknąć! Do zobaczenia! \n\n\n\nDlaczego warto?Bo DKK to nie tylko rozmowa o książkach – to przestrzeń spotkania\, wymiany myśli i wspólnego odkrywania literatury. Nie trzeba być ekspertem\, wystarczy być sobą. \n\n\n\nOrganizator: \n\n\n\n\n\nLokalizacja:
URL:https://bpochota.waw.pl/wydarzenia/dyskusyjny-klub-ksiazki-dallas-63-stephen-king/
LOCATION:Biblioteka „Przy Zawiszy”\, Al. Jerozolimskie 121/123\, Warszawa\, 02-017\, Poland
ATTACH;FMTTYPE=image/webp:https://bpochota.waw.pl/wp-content/uploads/bpo-okladka-dallas_63.webp
END:VEVENT
BEGIN:VEVENT
DTSTART;TZID=Europe/Warsaw:20251027T173000
DTEND;TZID=Europe/Warsaw:20251027T190000
DTSTAMP:20260421T120245
CREATED:20250922T110657Z
LAST-MODIFIED:20251021T130748Z
UID:10000519-1761586200-1761591600@bpochota.waw.pl
SUMMARY:Dyskusyjny Klub Książki - "Porządek dnia" - Éric Vuillard
DESCRIPTION:Jak rodzi się zło? Czy historia to tylko ciąg faktów — czy może dramat\, w którym wszyscy gramy swoje role? \n\n\n\nNa spotkaniu Dyskusyjnego Klubu Książki porozmawiamy o wyjątkowej powieści Porządek dnia autorstwa Érica Vuillarda – laureata Nagrody Goncourtów. To krótka\, ale niezwykle intensywna książka\, która z chirurgiczną precyzją odsłania kulisy narodzin faszyzmu i mechanizmy politycznej obojętności. \n\n\n\nO czym możemy rozmawiać? \n\n\n\n\nCzy można opowiedzieć o XX wieku w 150 stronach – i zrobić to tak\, że nie da się zapomnieć?\n\n\n\nJakie decyzje – pozornie niewinne – prowadzą do katastrofy?\n\n\n\nDlaczego Porządek dnia to ostrzeżenie dla współczesnych?\n\n\n\n\n \n\n\n\nVuillard nie moralizuje – on pokazuje. Zderza nas z faktami\, które znamy\, ale których znaczenia często nie rozumiemy. To książka\, która zostawia ślad. \n\n\n\nDlaczego warto?Bo DKK to nie tylko rozmowa o książkach – to przestrzeń spotkania\, wymiany myśli i wspólnego odkrywania literatury. Nie trzeba być ekspertem\, wystarczy być sobą. \n\n\n\nOrganizator: \n\n\n\n\n\nLokalizacja:
URL:https://bpochota.waw.pl/wydarzenia/dyskusyjny-klub-ksiazki-porzadek-dnia-eric-vuillard/
LOCATION:Biblioteka „Przy Zawiszy”\, Al. Jerozolimskie 121/123\, Warszawa\, 02-017\, Poland
ATTACH;FMTTYPE=image/jpeg:https://bpochota.waw.pl/wp-content/uploads/bpo-okladka-porzadek_dnia.jpg
END:VEVENT
BEGIN:VEVENT
DTSTART;TZID=Europe/Warsaw:20250922T173000
DTEND;TZID=Europe/Warsaw:20250922T190000
DTSTAMP:20260421T120245
CREATED:20250919T090752Z
LAST-MODIFIED:20250922T081515Z
UID:10000268-1758562200-1758567600@bpochota.waw.pl
SUMMARY:Dyskusyjny Klub Książki - "Ludzka rzecz" - Paweł Potoroczyn
DESCRIPTION:Miłość\, zawiść\, śmierć\, wojna – wszystko to\, co ludzkie. Już wkrótce zapraszamy na kolejne spotkanie naszego Dyskusyjnego Klubu Książki\, podczas którego porozmawiamy o powieści Ludzka rzecz autorstwa Pawła Potoroczyna  – głośnym debiucie literackim\, który zdobył uznanie krytyków i czytelników\, a także nominacje do najważniejszych nagród literackich w Polsce. \n\n\n\nO czym możemy rozmawiać? \n\n\n\n\nCzy miłość naprawdę zdarza się tylko raz?\n\n\n\nJak wojna zmienia ludzi — i czy może uczynić bohaterów z łobuzów?\n\n\n\nCo sprawia\, że „ludzka rzecz” to coś więcej niż tylko zbiór opowieści?\n\n\n\n\nPotoroczyn zabiera nas do Piórkowa – miejsca\, gdzie codzienność miesza się z historią\, a każda postać niesie w sobie coś znajomego. To powieść pełna humoru\, zadumy i emocji\, które zostają z czytelnikiem na długo. \n\n\n\nDlaczego warto?Bo DKK to nie tylko rozmowa o książkach – to przestrzeń spotkania\, wymiany myśli i wspólnego odkrywania literatury. Nie trzeba być ekspertem\, wystarczy być sobą. \n\n\n\nOrganizator: \n\n\n\n\n\nLokalizacja:
URL:https://bpochota.waw.pl/wydarzenia/dyskusyjny-klub-ksiazki/
LOCATION:Biblioteka „Przy Zawiszy”\, Al. Jerozolimskie 121/123\, Warszawa\, 02-017\, Poland
CATEGORIES:Zajęcia dla dorosłych
ATTACH;FMTTYPE=image/jpeg:https://bpochota.waw.pl/wp-content/uploads/bpo-okladka-ludzka_rzecz.jpg
END:VEVENT
END:VCALENDAR