BEGIN:VCALENDAR
VERSION:2.0
PRODID:-//Biblioteka Publiczna w Dzielnicy Ochota m.st. Warszawy - ECPv6.15.20//NONSGML v1.0//EN
CALSCALE:GREGORIAN
METHOD:PUBLISH
X-ORIGINAL-URL:https://bpochota.waw.pl
X-WR-CALDESC:Wydarzenia dla Biblioteka Publiczna w Dzielnicy Ochota m.st. Warszawy
REFRESH-INTERVAL;VALUE=DURATION:PT1H
X-Robots-Tag:noindex
X-PUBLISHED-TTL:PT1H
BEGIN:VTIMEZONE
TZID:Europe/Warsaw
BEGIN:DAYLIGHT
TZOFFSETFROM:+0100
TZOFFSETTO:+0200
TZNAME:CEST
DTSTART:20250330T010000
END:DAYLIGHT
BEGIN:STANDARD
TZOFFSETFROM:+0200
TZOFFSETTO:+0100
TZNAME:CET
DTSTART:20251026T010000
END:STANDARD
BEGIN:DAYLIGHT
TZOFFSETFROM:+0100
TZOFFSETTO:+0200
TZNAME:CEST
DTSTART:20260329T010000
END:DAYLIGHT
BEGIN:STANDARD
TZOFFSETFROM:+0200
TZOFFSETTO:+0100
TZNAME:CET
DTSTART:20261025T010000
END:STANDARD
BEGIN:DAYLIGHT
TZOFFSETFROM:+0100
TZOFFSETTO:+0200
TZNAME:CEST
DTSTART:20270328T010000
END:DAYLIGHT
BEGIN:STANDARD
TZOFFSETFROM:+0200
TZOFFSETTO:+0100
TZNAME:CET
DTSTART:20271031T010000
END:STANDARD
END:VTIMEZONE
BEGIN:VEVENT
DTSTART;TZID=Europe/Warsaw:20260119T000000
DTEND;TZID=Europe/Warsaw:20260314T235959
DTSTAMP:20260418T080542
CREATED:20260113T101010Z
LAST-MODIFIED:20260113T123909Z
UID:10001067-1768780800-1773532799@bpochota.waw.pl
SUMMARY:Wystawa: Powroty – Hakya Gago
DESCRIPTION:Zapraszamy do obejrzenia wystawy malarstwa Hakyi Gago oraz na spotkanie z artystką \n\n\n\n\n\nPo więcej zapraszamy do Biblioteki. \n\n\n\nFinisaż wystawy – 5 marca 2026 r.\, godz. 17:30 \n\n\n\n\n\n\n\n\n\n\n\nNazywam się Hakya Gago (1986) Urodziłam się w Warszawie\, mam japońskie korzenie. Ukończyłam Międzynarodową Szkołę Kostiumografii i Projektowania Ubioru\, lecz to malarstwo stało się moim naturalnym językiem. Tworzę obrazy\, murale i obiekty\, które pojawiają się w przestrzeniach prywatnych i publicznych – od mieszkań po teatry.Moja twórczość to spotkanie z tym\, co niewidzialne – z energią\, symbolem\, intuicją i naturą. Jestem artystką\, która słucha: siebie\, przodków\, przestrzeni i ciszy pomiędzy dźwiękami. \n\n\n\nStrona artystki \n\n\n\n\n\n \n\n\n\n \n\n\n\nOrganizator: \n\n\n\n\n\nLokalizacja:
URL:https://bpochota.waw.pl/wydarzenia/wystawa-powroty-hakya-gago/
LOCATION:Biblioteka „Przystanek Ksiażka”\, ul. Grójecka 42\, Warszawa\, 02-320\, Poland
CATEGORIES:Wydarzenia,Wydarzenia dla dorosłych
ATTACH;FMTTYPE=image/webp:https://bpochota.waw.pl/wp-content/uploads/bpo-hakya_gago_plakat.webp
END:VEVENT
BEGIN:VEVENT
DTSTART;TZID=Europe/Warsaw:20260120T173000
DTEND;TZID=Europe/Warsaw:20260120T180000
DTSTAMP:20260418T080543
CREATED:20250922T084753Z
LAST-MODIFIED:20251021T141141Z
UID:10000402-1768930200-1768932000@bpochota.waw.pl
SUMMARY:Plastuś
DESCRIPTION:Zapraszamy na cykl fascynujących spotkań skierowanych do dzieci w wieku 7-12 lat\, które pragną odkryć i rozwinąć swój wewnętrzny potencjał! \n\n\n\nNa naszych warsztatach stawiamy na twórcze działanie\, które jest kluczem do rozbudzania wyobraźni plastycznej i kształtowania unikalnej osobowości każdego dziecka. To idealne miejsce\, by doskonalić umiejętności manualne\, eksperymentować z różnymi technikami i materiałami\, a przy tym świetnie się bawić! \n\n\n\nPodczas procesu twórczego dzieci mają szansę w pełni rozwinąć swoją pomysłowość\, stawać się coraz bardziej samodzielne i pewne siebie. Każde spotkanie to nowa przygoda\, która inspiruje do myślenia poza schematami i wyrażania siebie w oryginalny sposób. \n\n\n\nDołączcie do nas i zobaczcie\, jak Wasze dziecko rozkwita\, tworząc małe dzieła sztuki! \n\n\n\nOrganizator: \n\n\n\n\n\nLokalizacja:
URL:https://bpochota.waw.pl/wydarzenia/plastus/2026-01-20/
LOCATION:Biblioteka „Przy Baleya”\, ul. Baleya 9\, Warszawa\, 02-132
CATEGORIES:Zajęcia dla dzieci
ATTACH;FMTTYPE=image/webp:https://bpochota.waw.pl/wp-content/uploads/bpo-zajecia_artystyczne.webp
END:VEVENT
BEGIN:VEVENT
DTSTART;TZID=Europe/Warsaw:20260120T180000
DTEND;TZID=Europe/Warsaw:20260120T185500
DTSTAMP:20260418T080543
CREATED:20260116T081052Z
LAST-MODIFIED:20260116T081127Z
UID:10001079-1768932000-1768935300@bpochota.waw.pl
SUMMARY:Food I like / Konwersatoria językowe: angielski
DESCRIPTION:Get Talking \n\n\n\n\n\n \n\n\n\nLearning materials: \n\n\n\n\nHow to eat to live longer\n\n\n\nCooking vocabulary\n\n\n\n\nThe session will be led by: Joanna Hajduk \n\n\n\nOrganizer: \n\n\n\n\n\nLocation:
URL:https://bpochota.waw.pl/wydarzenia/food-i-like-konwersatoria-jezykowe-angielski/
LOCATION:Biblioteka „Przystanek Ksiażka”\, ul. Grójecka 42\, Warszawa\, 02-320\, Poland
CATEGORIES:Zajęcia dla dorosłych
ATTACH;FMTTYPE=image/webp:https://bpochota.waw.pl/wp-content/uploads/bpo-food_i_like.webp
END:VEVENT
END:VCALENDAR