BEGIN:VCALENDAR
VERSION:2.0
PRODID:-//Biblioteka Publiczna w Dzielnicy Ochota m.st. Warszawy - ECPv6.15.20//NONSGML v1.0//EN
CALSCALE:GREGORIAN
METHOD:PUBLISH
X-ORIGINAL-URL:https://bpochota.waw.pl
X-WR-CALDESC:Wydarzenia dla Biblioteka Publiczna w Dzielnicy Ochota m.st. Warszawy
REFRESH-INTERVAL;VALUE=DURATION:PT1H
X-Robots-Tag:noindex
X-PUBLISHED-TTL:PT1H
BEGIN:VTIMEZONE
TZID:Europe/Warsaw
BEGIN:DAYLIGHT
TZOFFSETFROM:+0100
TZOFFSETTO:+0200
TZNAME:CEST
DTSTART:20250330T010000
END:DAYLIGHT
BEGIN:STANDARD
TZOFFSETFROM:+0200
TZOFFSETTO:+0100
TZNAME:CET
DTSTART:20251026T010000
END:STANDARD
BEGIN:DAYLIGHT
TZOFFSETFROM:+0100
TZOFFSETTO:+0200
TZNAME:CEST
DTSTART:20260329T010000
END:DAYLIGHT
BEGIN:STANDARD
TZOFFSETFROM:+0200
TZOFFSETTO:+0100
TZNAME:CET
DTSTART:20261025T010000
END:STANDARD
BEGIN:DAYLIGHT
TZOFFSETFROM:+0100
TZOFFSETTO:+0200
TZNAME:CEST
DTSTART:20270328T010000
END:DAYLIGHT
BEGIN:STANDARD
TZOFFSETFROM:+0200
TZOFFSETTO:+0100
TZNAME:CET
DTSTART:20271031T010000
END:STANDARD
END:VTIMEZONE
BEGIN:VEVENT
DTSTART;TZID=Europe/Warsaw:20260519T163000
DTEND;TZID=Europe/Warsaw:20260519T173000
DTSTAMP:20260421T111812
CREATED:20251020T115504Z
LAST-MODIFIED:20251229T102022Z
UID:10000867-1779208200-1779211800@bpochota.waw.pl
SUMMARY:Konsultacje komputerowe z Marią (Edukacja cyfrowa)
DESCRIPTION:Nie wiesz\, gdzie zniknęły zdjęcia? Twój telefon robi rzeczy\, których nie rozumiesz? A może komputer uparcie domaga się\, żebyś „sprawdził pocztę”\, choć nie masz pojęcia\, gdzie ona się ukryła? Spokojnie – wolontariuszka Maria zna te cyfrowe sztuczki! Z uśmiechem\, cierpliwością i poczuciem humoru pomoże Ci ujarzmić elektroniczne zagadki. Indywidualnie\, bez pośpiechu\, z ludzkim podejściem. \n\n\n\nZapisy: \n\n\n\n\nprzystanek@bpochota.waw.pl\n\n\n\n22 822 51 38 wew. 27\n\n\n\n\nOrganizator: \n\n\n\n\n\nMiejsce:
URL:https://bpochota.waw.pl/wydarzenia/konsultacje-komputerowe-z-maria-edukacja-cyfrowa/2026-05-19/
LOCATION:Biblioteka „Przystanek Ksiażka”\, ul. Grójecka 42\, Warszawa\, 02-320\, Poland
CATEGORIES:Zajęcia dla seniorów
ATTACH;FMTTYPE=image/webp:https://bpochota.waw.pl/wp-content/uploads/bpo-edukacja_cyfrowa.webp
END:VEVENT
BEGIN:VEVENT
DTSTART;TZID=Europe/Warsaw:20260519T173000
DTEND;TZID=Europe/Warsaw:20260519T180000
DTSTAMP:20260421T111812
CREATED:20250922T084753Z
LAST-MODIFIED:20251021T141141Z
UID:10000406-1779211800-1779213600@bpochota.waw.pl
SUMMARY:Plastuś
DESCRIPTION:Zapraszamy na cykl fascynujących spotkań skierowanych do dzieci w wieku 7-12 lat\, które pragną odkryć i rozwinąć swój wewnętrzny potencjał! \n\n\n\nNa naszych warsztatach stawiamy na twórcze działanie\, które jest kluczem do rozbudzania wyobraźni plastycznej i kształtowania unikalnej osobowości każdego dziecka. To idealne miejsce\, by doskonalić umiejętności manualne\, eksperymentować z różnymi technikami i materiałami\, a przy tym świetnie się bawić! \n\n\n\nPodczas procesu twórczego dzieci mają szansę w pełni rozwinąć swoją pomysłowość\, stawać się coraz bardziej samodzielne i pewne siebie. Każde spotkanie to nowa przygoda\, która inspiruje do myślenia poza schematami i wyrażania siebie w oryginalny sposób. \n\n\n\nDołączcie do nas i zobaczcie\, jak Wasze dziecko rozkwita\, tworząc małe dzieła sztuki! \n\n\n\nOrganizator: \n\n\n\n\n\nLokalizacja:
URL:https://bpochota.waw.pl/wydarzenia/plastus/2026-05-19/
LOCATION:Biblioteka „Przy Baleya”\, ul. Baleya 9\, Warszawa\, 02-132
CATEGORIES:Zajęcia dla dzieci
ATTACH;FMTTYPE=image/webp:https://bpochota.waw.pl/wp-content/uploads/bpo-zajecia_artystyczne.webp
END:VEVENT
BEGIN:VEVENT
DTSTART;TZID=Europe/Warsaw:20260520T170000
DTEND;TZID=Europe/Warsaw:20260520T180000
DTSTAMP:20260421T111812
CREATED:20250925T094422Z
LAST-MODIFIED:20251021T140728Z
UID:10000593-1779296400-1779300000@bpochota.waw.pl
SUMMARY:Twórcze dzieciaki
DESCRIPTION:Zapraszamy dzieci w wieku 4–7 lat wraz z rodzicami na wyjątkowe zajęcia\, podczas których połączymy magiczny świat literatury z fascynującym światem przyrody. \n\n\n\nPodczas spotkań uczestnicy będą mieli okazję wysłuchać tekstu literackiego\, który rozbudzi ich wyobraźnię i zainteresowanie otaczającym światem. \n\n\n\nWspólnie poznawać będą ciekawostki przyrodnicze\, które staną się inspiracją do tworzenia prac plastycznych. \n\n\n\nPodczas zajęć dzieci razem z rodzicami będą korzystać z różnych materiałów oraz naturalnych elementów przyrody\, rozwijając przy tym swoje zdolności manualne i kreatywność. \n\n\n\nWszystko to w przyjaznej i twórczej atmosferze\, sprzyjającej wspólnemu spędzaniu czasu i odkrywaniu piękna natury. \n\n\n\nNa zajęciach dzieci będą: \n\n\n\n\nsłuchały wybranego tekstu literackiego\n\n\n\npoznawały ciekawy świat przyrody\n\n\n\nrozwijały wyobraźnię\n\n\n\nwykonywały prace plastyczne inspirowane poznanym tekstem\,\n\n\n\nwykorzystując różne techniki\, materiały oraz elementy przyrody\n\n\n\n\nOrganizator: \n\n\n\n\n\nLokalizacja: \n\n\n\n\n\n\n\n\n\nZapisy: \n\n\n\nAdresatBiblioteka „Skarżyńskiego”Kierownik\n\nTematZapytanieZapis na zajęciaPrzedłużenie wypożyczeniaAnulowanie rezerwacjiPropozycja zakupu\n\nNazwa\n\nEmail\n\nTreść wiadomości*\n\nWyślij
URL:https://bpochota.waw.pl/wydarzenia/tworcze-dzieciaki/2026-05-20/
LOCATION:Biblioteka „Skarżyńskiego”\, ul. Skarżyńskiego 5\, Warszawa\, 02-377\, Poland
CATEGORIES:Zajęcia dla dzieci
ATTACH;FMTTYPE=image/webp:https://bpochota.waw.pl/wp-content/uploads/bpo-zajecia_literacko_artystyczne.webp
END:VEVENT
BEGIN:VEVENT
DTSTART;TZID=Europe/Warsaw:20260521T173000
DTEND;TZID=Europe/Warsaw:20260521T183000
DTSTAMP:20260421T111812
CREATED:20260416T092117Z
LAST-MODIFIED:20260416T092123Z
UID:10001125-1779384600-1779388200@bpochota.waw.pl
SUMMARY:Wyjść z szuflady - Sandra Jesionowska-Kuryło i Anna Przybyll - spotkanie autorskie
DESCRIPTION:Sandra Jasionowska-Kuryło i Anna Przybyll to poetki\, autorki i self-publisherki. W przyjemnej\, kameralnej atmosferze porozmawiają o tym\, co powstrzymuje przed dzieleniem się własną twórczością – o wstydzie i lęku przed reakcją otoczenia. \n\n\n\nZapraszamy do udziału\, zadawania pytań i dzielenia się swoim doświadczeniem. \n\n\n\n\n\n\n\n\n\n \n\n\n\n\n\nSandra Jasionowska-Kuryło – Urodzona w 1993 roku w Gołdapi na Mazurach. Od kilkunastu lat mieszka na Pomorzu. Z zawodu programistka\, z wykształcenia inżynier Fizyki Technicznej\, a z potrzeby serca pisarka\, poetka i artystka. Chciała iść na dziennikarstwo\, ale skręciła na politechnikę i nie żałuje. Wierzy w dzielenie się swoim doświadczeniem. Tworzy to\, co jej samej pomogłoby w trudnych chwilach. Gra w gry. Przyznaje\, że czasem nie wie\, co robi. Można ją znaleźć na Instagramie pod @sjasionowska. \n\n\n\nŹródło: lubimyczytac.pl \n\n\n\nStrona autorki \n\n\n\n\n\n\n\n\n\n\n\n \n\n\n\n\n\nAnna Przybyll – ur. w 1984 r. w Warszawie. Od najmłodszych lat zakochana w literach. W listopadzie 1999 wygrała swój pierwszy konkurs poetycki\, Stołecznego Centrum Edukacji Kulturalnej. W październiku 2015 miała wieczór autorski w Teatrze Baza w Warszawie. W kwietniu 2020 wydała debiutancki tomik poetycki „Obietnice składane przez życie”. Drugi tomik „Sekwencja Udanych Gestów” ukazał się w kwietniu 2024. Jej wiersze były publikowane w Akancie\, Angorze\, Mojej Przestrzeni Kultury i TarNowej Kulturze. Jest opiekunką warszawskiego Punktu Wymiany Poezji. Prowadzi kącik poetycki w Gazecie Siekierkowskiej. Ma konto poetyckie na Instagramie jako @poetka_ania. \n\n\n\nŹródło: Wydawnictwo j \n\n\n\nStrona autorki \n\n\n\n\n\nOrganizator: \n\n\n\n\n\nLokalizacja:
URL:https://bpochota.waw.pl/wydarzenia/wyjsc-z-szuflady-sandra-jesionowska-kurylo-i-anna-przybyll-spotkanie-autorskie/
LOCATION:Biblioteka „Przy Baleya”\, ul. Baleya 9\, Warszawa\, 02-132
CATEGORIES:Wydarzenia,Wydarzenia dla dorosłych
ATTACH;FMTTYPE=image/webp:https://bpochota.waw.pl/wp-content/uploads/bpo-wyjsczszuflady.webp
END:VEVENT
END:VCALENDAR