BEGIN:VCALENDAR
VERSION:2.0
PRODID:-//Biblioteka Publiczna w Dzielnicy Ochota m.st. Warszawy - ECPv6.15.20//NONSGML v1.0//EN
CALSCALE:GREGORIAN
METHOD:PUBLISH
X-WR-CALNAME:Biblioteka Publiczna w Dzielnicy Ochota m.st. Warszawy
X-ORIGINAL-URL:https://bpochota.waw.pl
X-WR-CALDESC:Wydarzenia dla Biblioteka Publiczna w Dzielnicy Ochota m.st. Warszawy
REFRESH-INTERVAL;VALUE=DURATION:PT1H
X-Robots-Tag:noindex
X-PUBLISHED-TTL:PT1H
BEGIN:VTIMEZONE
TZID:Europe/Warsaw
BEGIN:DAYLIGHT
TZOFFSETFROM:+0100
TZOFFSETTO:+0200
TZNAME:CEST
DTSTART:20250330T010000
END:DAYLIGHT
BEGIN:STANDARD
TZOFFSETFROM:+0200
TZOFFSETTO:+0100
TZNAME:CET
DTSTART:20251026T010000
END:STANDARD
BEGIN:DAYLIGHT
TZOFFSETFROM:+0100
TZOFFSETTO:+0200
TZNAME:CEST
DTSTART:20260329T010000
END:DAYLIGHT
BEGIN:STANDARD
TZOFFSETFROM:+0200
TZOFFSETTO:+0100
TZNAME:CET
DTSTART:20261025T010000
END:STANDARD
BEGIN:DAYLIGHT
TZOFFSETFROM:+0100
TZOFFSETTO:+0200
TZNAME:CEST
DTSTART:20270328T010000
END:DAYLIGHT
BEGIN:STANDARD
TZOFFSETFROM:+0200
TZOFFSETTO:+0100
TZNAME:CET
DTSTART:20271031T010000
END:STANDARD
END:VTIMEZONE
BEGIN:VEVENT
DTSTART;TZID=Europe/Warsaw:20260526T171500
DTEND;TZID=Europe/Warsaw:20260526T180000
DTSTAMP:20260421T001750
CREATED:20250917T101914Z
LAST-MODIFIED:20251021T134908Z
UID:10000216-1779815700-1779818400@bpochota.waw.pl
SUMMARY:Co w trawie piszczy?
DESCRIPTION:Czy Twoje dziecko ma 4-6 lat i uwielbia odkrywać świat? A może szukasz sposobu\, by rozpalić w nim miłość do książek i kreatywnych zabaw? \n\n\n\nZapraszamy na magiczne spotkania literacko-plastyczne w naszej bibliotece\, gdzie każde dziecko poczuje się jak prawdziwy odkrywca! \n\n\n\nCo na Was czeka? \n\n\n\n\nZanurkujemy w świat opowieści: Będziemy słuchać porywających fragmentów książek\, które zabiorą nas w niezwykłe podróże.\n\n\n\nRozbudzimy wyobraźnię: Wspólnie stworzymy coś z niczego – będziemy rysować\, malować i kleić\, dając upust artystycznym pomysłom!\n\n\n\nRozruszamy szare komórki: Czytanie ze zrozumieniem i rozwiązywanie zagadek słownych i obrazkowych to świetna gimnastyka dla umysłu.\n\n\n\nNauczymy się współpracy: Wspólne zabawy to doskonała okazja\, by rozwijać umiejętność pracy w grupie i czerpać radość z bycia razem.\n\n\n\nDużo śmiechu i zabawy! Bo nauka przez zabawę to najskuteczniejszy sposób na rozwijanie pasji.\n\n\n\n\nPrzyjdźcie i przekonajcie się\, ile radości może przynieść spotkanie z książką i sztuką! Zabierzcie ze sobą rodziców – razem będzie raźniej! \n\n\n\nDo zobaczenia w bibliotece! \n\n\n\nOrganizator: \n\n\n\n\n\nLokalizacja:
URL:https://bpochota.waw.pl/wydarzenia/co-w-trawie-piszczy/2026-05-26/
LOCATION:Biblioteka „Przy Baleya”\, ul. Baleya 9\, Warszawa\, 02-132
CATEGORIES:Zajęcia dla dzieci
ATTACH;FMTTYPE=image/webp:https://bpochota.waw.pl/wp-content/uploads/bpo-zajecia_literacko_artystyczne.webp
END:VEVENT
BEGIN:VEVENT
DTSTART;TZID=Europe/Warsaw:20260526T180000
DTEND;TZID=Europe/Warsaw:20260526T185500
DTSTAMP:20260421T001750
CREATED:20260414T170211Z
LAST-MODIFIED:20260414T170219Z
UID:10001115-1779818400-1779821700@bpochota.waw.pl
SUMMARY:What’s one invention that changed your life? / Konwersatoria językowe: angielski
DESCRIPTION:Get Talking \n\n\n\n\n\n\n„You may think you can’t live without your smartphone\, TikTok\, online shopping\, etc. \n\n\n\nHumans have been innovating since the dawn of time to get us to where we are today. In the article are some of the hundreds of inventions that profoundly changed your world. What else would be on your list?” \n\n\n\n\nLearning materials: \n\n\n\n\n10 Inventions That Changed Your World\n\n\n\n\nThe session will be led by: Joanna Hajduk \n\n\n\nOrganizer: \n\n\n\n\n\nLocation:
URL:https://bpochota.waw.pl/wydarzenia/whats-one-invention-that-changed-your-life-konwersatoria-jezykowe-angielski/
LOCATION:Biblioteka „Przystanek Ksiażka”\, ul. Grójecka 42\, Warszawa\, 02-320\, Poland
CATEGORIES:Zajęcia dla dorosłych
ATTACH;FMTTYPE=image/webp:https://bpochota.waw.pl/wp-content/uploads/bpo-inventions_that_changed_your_world.webp
END:VEVENT
BEGIN:VEVENT
DTSTART;TZID=Europe/Warsaw:20260527T170000
DTEND;TZID=Europe/Warsaw:20260527T170000
DTSTAMP:20260421T001750
CREATED:20250922T091812Z
LAST-MODIFIED:20251021T123250Z
UID:10000467-1779901200-1779901200@bpochota.waw.pl
SUMMARY:Różdżką i pędzlem
DESCRIPTION:Zapraszamy dzieci z klas I–III (7-10 lat) do niezwykłej\, kreatywnej podróży doświata magii! \n\n\n\nPodczas warsztatów plastycznych zanurzymy się w opowieści o Harrym Potterze i jego przyjaciołach\, a następnie stworzymy prace inspirowane tym wyjątkowym\, czarodziejskim światem. \n\n\n\nBędzie to czas pełen wyobraźni\, twórczej zabawy i magii ukrytej w kolorach!Na zajęciach dzieci będą: \n\n\n\n\nsłuchały fragmentów książek z serii o Harrym Potterze\n\n\n\nrozmawiały na temat wybranego fragmentu\n\n\n\nrozwiązywały quizy i brały udział w rożnych tematycznych zabawach\n\n\n\ntworzyły prace inspirowane literaturą J.K. Rowling z wykorzystaniemróżnorodnych technik plastycznych\n\n\n\n\nZajęcia będą prowadzone w sposób angażujący z elementami narracji\, zabawy i odniesieniami do znanego dzieciom świata czarów tak\, by uczestnicy poczuli się jak uczniowie pewnej znanej szkoły magii. \n\n\n\nOrganizator: \n\n\n\n\n\nLokalizacja:
URL:https://bpochota.waw.pl/wydarzenia/rozdzka-i-pedzlem/2026-05-27/
LOCATION:Biblioteka „Skarżyńskiego”\, ul. Skarżyńskiego 5\, Warszawa\, 02-377\, Poland
ATTACH;FMTTYPE=image/webp:https://bpochota.waw.pl/wp-content/uploads/bpo-zajecia_literacko_artystyczne.webp
END:VEVENT
BEGIN:VEVENT
DTSTART;TZID=Europe/Warsaw:20260527T171500
DTEND;TZID=Europe/Warsaw:20260527T180000
DTSTAMP:20260421T001750
CREATED:20250916T102911Z
LAST-MODIFIED:20250922T080554Z
UID:10000036-1779902100-1779904800@bpochota.waw.pl
SUMMARY:Fit Przystanek
DESCRIPTION:Zapraszamy serdecznie wszystkie dzieci w wieku od 4 do 8 lat\, które kochają ruch i sport\, na nasze wyjątkowe zajęcia „Fit Przystanek” w Bibliotece! \n\n\n\nNa tych spotkaniach połączymy dwie wspaniałe rzeczy: fascynujący świat książek i radosne zabawy ruchowe. Podczas każdej sesji dzieci będą miały okazję zanurzyć się w magiczne historie\, słuchając czytanych na głos bajek i opowiadań. Ale to nie wszystko! W trakcie spotkania\, przeplatając czytanie z dynamicznymi zabawami\, będziemy czerpać inspirację z treści książki i ruszać do działania! Będziemy skakać jak żabki\, biegać jak zajączki\, naśladować bohaterów opowieści\, a także grać w gry i brać udział w prostych ćwiczeniach\, które rozwijają koordynację\, sprawność i wyobraźnię. \n\n\n\nNasze zajęcia to idealna okazja\, by zachęcić maluchy do czytania w dynamiczny i angażujący sposób\, jednocześnie dbając o ich rozwój fizyczny. Przyjdźcie i przekonajcie się\, że czytanie może być równie ekscytujące co najbardziej szalone sportowe przygody! \n\n\n\nCzekamy na Was! \n\n\n\nOrganizator: \n\n\n\n\n\nLokalizacja:
URL:https://bpochota.waw.pl/wydarzenia/fit-przystanek/2026-05-27/
LOCATION:Biblioteka „Przystanek Ksiażka”\, ul. Grójecka 42\, Warszawa\, 02-320\, Poland
CATEGORIES:Zajęcia dla dzieci
END:VEVENT
END:VCALENDAR