BEGIN:VCALENDAR
VERSION:2.0
PRODID:-//Biblioteka Publiczna w Dzielnicy Ochota m.st. Warszawy - ECPv6.15.20//NONSGML v1.0//EN
CALSCALE:GREGORIAN
METHOD:PUBLISH
X-ORIGINAL-URL:https://bpochota.waw.pl
X-WR-CALDESC:Wydarzenia dla Biblioteka Publiczna w Dzielnicy Ochota m.st. Warszawy
REFRESH-INTERVAL;VALUE=DURATION:PT1H
X-Robots-Tag:noindex
X-PUBLISHED-TTL:PT1H
BEGIN:VTIMEZONE
TZID:Europe/Warsaw
BEGIN:DAYLIGHT
TZOFFSETFROM:+0100
TZOFFSETTO:+0200
TZNAME:CEST
DTSTART:20250330T010000
END:DAYLIGHT
BEGIN:STANDARD
TZOFFSETFROM:+0200
TZOFFSETTO:+0100
TZNAME:CET
DTSTART:20251026T010000
END:STANDARD
BEGIN:DAYLIGHT
TZOFFSETFROM:+0100
TZOFFSETTO:+0200
TZNAME:CEST
DTSTART:20260329T010000
END:DAYLIGHT
BEGIN:STANDARD
TZOFFSETFROM:+0200
TZOFFSETTO:+0100
TZNAME:CET
DTSTART:20261025T010000
END:STANDARD
BEGIN:DAYLIGHT
TZOFFSETFROM:+0100
TZOFFSETTO:+0200
TZNAME:CEST
DTSTART:20270328T010000
END:DAYLIGHT
BEGIN:STANDARD
TZOFFSETFROM:+0200
TZOFFSETTO:+0100
TZNAME:CET
DTSTART:20271031T010000
END:STANDARD
END:VTIMEZONE
BEGIN:VEVENT
DTSTART;TZID=Europe/Warsaw:20261006T163000
DTEND;TZID=Europe/Warsaw:20261006T173000
DTSTAMP:20260424T210232
CREATED:20251020T115504Z
LAST-MODIFIED:20251229T102022Z
UID:10000877-1791304200-1791307800@bpochota.waw.pl
SUMMARY:Konsultacje komputerowe z Marią (Edukacja cyfrowa)
DESCRIPTION:Nie wiesz\, gdzie zniknęły zdjęcia? Twój telefon robi rzeczy\, których nie rozumiesz? A może komputer uparcie domaga się\, żebyś „sprawdził pocztę”\, choć nie masz pojęcia\, gdzie ona się ukryła? Spokojnie – wolontariuszka Maria zna te cyfrowe sztuczki! Z uśmiechem\, cierpliwością i poczuciem humoru pomoże Ci ujarzmić elektroniczne zagadki. Indywidualnie\, bez pośpiechu\, z ludzkim podejściem. \n\n\n\nZapisy: \n\n\n\n\nprzystanek@bpochota.waw.pl\n\n\n\n22 822 51 38 wew. 27\n\n\n\n\nOrganizator: \n\n\n\n\n\nMiejsce:
URL:https://bpochota.waw.pl/wydarzenia/konsultacje-komputerowe-z-maria-edukacja-cyfrowa/2026-10-06/
LOCATION:Biblioteka „Przystanek Ksiażka”\, ul. Grójecka 42\, Warszawa\, 02-320\, Poland
CATEGORIES:Zajęcia dla seniorów
ATTACH;FMTTYPE=image/webp:https://bpochota.waw.pl/wp-content/uploads/bpo-edukacja_cyfrowa.webp
END:VEVENT
BEGIN:VEVENT
DTSTART;TZID=Europe/Warsaw:20261008T123000
DTEND;TZID=Europe/Warsaw:20261008T133000
DTSTAMP:20260424T210232
CREATED:20260423T103235Z
LAST-MODIFIED:20260423T103820Z
UID:10001151-1791462600-1791466200@bpochota.waw.pl
SUMMARY:Polish Café - Konwersatoria językowe: polski / Language Conversational Classes: Polish
DESCRIPTION:Projekt ten jest skierowany do obcokrajowców\, którzy uczą się języka polskiego i opanowali go już przynajmniej na poziomie podstawowym\, ale chcą dalej rozwijać swoje umiejętności językowe. Główną ideą „Polish Café” jest stworzenie przyjaznej i bezpiecznej przestrzeni\, w której uczestnicy mieliby szansę przełamać barierę językową i naturalnie ćwiczyć mówienie po polsku poprzez konwersacje z polskojęzycznymi wolontariuszami oraz z innymi osobami uczącymi się języka. \n\n\n\nThis project is directed at foreigners who are learning Polish and have mastered it at least at a basic level but want to further develop their language skills. The main idea of ​​the „Polish Café” is to create a friendly and safe space where participants have the opportunity to overcome the language barrier and practice speaking Polish naturally through conversations with Polish-speaking volunteers and other language learners. \n\n\n\nOrganizator: \n\n\n\n\n\nLokalizacja:
URL:https://bpochota.waw.pl/wydarzenia/polish-cafe-konwersatoria-jezykowe-polski-language-conversational-classes-polish/2026-10-08/
LOCATION:Biblioteka „Pod Skrzydłami”\, ul. Grójecka 109\, Warszawa\, 02-120\, Poland
CATEGORIES:Wydarzenia,Wydarzenia dla dorosłych
ATTACH;FMTTYPE=image/webp:https://bpochota.waw.pl/wp-content/uploads/bpo-korea.webp
END:VEVENT
BEGIN:VEVENT
DTSTART;TZID=Europe/Warsaw:20261008T171500
DTEND;TZID=Europe/Warsaw:20261008T180000
DTSTAMP:20260424T210232
CREATED:20251021T124707Z
LAST-MODIFIED:20251021T133034Z
UID:10000803-1791479700-1791482400@bpochota.waw.pl
SUMMARY:Zaczarowany ołówek
DESCRIPTION:Zapraszamy serdecznie wszystkie dzieci w wieku 6-10 lat wraz z rodzicami na nasze pełne barw zajęcia plastyczne! \n\n\n\nTo idealna okazja\, by razem spędzić czas\, rozwinąć zdolności manualne i pobudzić kreatywne myślenie. Na naszych spotkaniach dzieci nie tylko ćwiczą rękę\, ale przede wszystkim puszczają wodze fantazji! Będziemy tworzyć niesamowite prace plastyczne – zarówno te proponowane przez bibliotekarza\, jak i te\, na które sami uczestnicy mają pomysł. Wspieramy każdą twórczą inicjatywę! \n\n\n\nCelem zajęć jest pokazanie\, że świat poza ekranem jest pełen inspiracji! Chcemy zachęcić dzieci do rozwijania pasji\, pobudzić ich wyobraźnię i udowodnić\, że biblioteka to przyjazne miejsce\, gdzie można twórczo i przyjemnie spędzić czas. \n\n\n\nDołączcie do nas i stwórzcie coś wyjątkowego! \n\n\n\nOrganizator: \n\n\n\n\n\nLokalizacja:
URL:https://bpochota.waw.pl/wydarzenia/zaczarowany-olowek/2026-10-08/
LOCATION:Biblioteka „Przystanek Ksiażka”\, ul. Grójecka 42\, Warszawa\, 02-320\, Poland
CATEGORIES:Zajęcia dla dzieci
ATTACH;FMTTYPE=image/webp:https://bpochota.waw.pl/wp-content/uploads/bpo-zajecia_artystyczne.webp
END:VEVENT
END:VCALENDAR