BEGIN:VCALENDAR
VERSION:2.0
PRODID:-//Biblioteka Publiczna w Dzielnicy Ochota m.st. Warszawy - ECPv6.15.20//NONSGML v1.0//EN
CALSCALE:GREGORIAN
METHOD:PUBLISH
X-WR-CALNAME:Biblioteka Publiczna w Dzielnicy Ochota m.st. Warszawy
X-ORIGINAL-URL:https://bpochota.waw.pl
X-WR-CALDESC:Wydarzenia dla Biblioteka Publiczna w Dzielnicy Ochota m.st. Warszawy
REFRESH-INTERVAL;VALUE=DURATION:PT1H
X-Robots-Tag:noindex
X-PUBLISHED-TTL:PT1H
BEGIN:VTIMEZONE
TZID:Europe/Warsaw
BEGIN:DAYLIGHT
TZOFFSETFROM:+0100
TZOFFSETTO:+0200
TZNAME:CEST
DTSTART:20260329T010000
END:DAYLIGHT
BEGIN:STANDARD
TZOFFSETFROM:+0200
TZOFFSETTO:+0100
TZNAME:CET
DTSTART:20261025T010000
END:STANDARD
BEGIN:DAYLIGHT
TZOFFSETFROM:+0100
TZOFFSETTO:+0200
TZNAME:CEST
DTSTART:20270328T010000
END:DAYLIGHT
BEGIN:STANDARD
TZOFFSETFROM:+0200
TZOFFSETTO:+0100
TZNAME:CET
DTSTART:20271031T010000
END:STANDARD
BEGIN:DAYLIGHT
TZOFFSETFROM:+0100
TZOFFSETTO:+0200
TZNAME:CEST
DTSTART:20280326T010000
END:DAYLIGHT
BEGIN:STANDARD
TZOFFSETFROM:+0200
TZOFFSETTO:+0100
TZNAME:CET
DTSTART:20281029T010000
END:STANDARD
END:VTIMEZONE
BEGIN:VEVENT
DTSTART;TZID=Europe/Warsaw:20270902T123000
DTEND;TZID=Europe/Warsaw:20270902T133000
DTSTAMP:20260424T115546
CREATED:20260423T103235Z
LAST-MODIFIED:20260423T105855Z
UID:10001198-1819888200-1819891800@bpochota.waw.pl
SUMMARY:Polish Café - Conversations in Polish for foreigners / Konwersatoria językowe: polski
DESCRIPTION:Projekt ten jest skierowany do obcokrajowców\, którzy uczą się języka polskiego i opanowali go już przynajmniej na poziomie podstawowym\, ale chcą dalej rozwijać swoje umiejętności językowe. Główną ideą „Polish Café” jest stworzenie przyjaznej i bezpiecznej przestrzeni\, w której uczestnicy mieliby szansę przełamać barierę językową i naturalnie ćwiczyć mówienie po polsku poprzez konwersacje z polskojęzycznymi wolontariuszami oraz z innymi osobami uczącymi się języka. \n\n\n\nThis project is directed at foreigners who are learning Polish and have mastered it at least at a basic level but want to further develop their language skills. The main idea of ​​the „Polish Café” is to create a friendly and safe space where participants have the opportunity to overcome the language barrier and practice speaking Polish naturally through conversations with Polish-speaking volunteers and other language learners. \n\n\n\nOrganizator: \n\n\n\n\n\nLokalizacja:
URL:https://bpochota.waw.pl/wydarzenia/polish-cafe-konwersatoria-jezykowe-polski-language-conversational-classes-polish/2027-09-02/
LOCATION:Biblioteka „Pod Skrzydłami”\, ul. Grójecka 109\, Warszawa\, 02-120\, Poland
CATEGORIES:Wydarzenia,Wydarzenia dla dorosłych
ATTACH;FMTTYPE=image/webp:https://bpochota.waw.pl/wp-content/uploads/bpo-korea.webp
END:VEVENT
END:VCALENDAR